BEGIN:VCALENDAR
VERSION:2.0
PRODID:-//Cross-Commodity Leadership Support Project - ECPv6.15.17//NONSGML v1.0//EN
CALSCALE:GREGORIAN
METHOD:PUBLISH
X-WR-CALNAME:Cross-Commodity Leadership Support Project
X-ORIGINAL-URL:https://crosscommodity.org
X-WR-CALDESC:Events for Cross-Commodity Leadership Support Project
REFRESH-INTERVAL;VALUE=DURATION:PT1H
X-Robots-Tag:noindex
X-PUBLISHED-TTL:PT1H
BEGIN:VTIMEZONE
TZID:America/Vancouver
BEGIN:DAYLIGHT
TZOFFSETFROM:-0800
TZOFFSETTO:-0700
TZNAME:PDT
DTSTART:20230312T100000
END:DAYLIGHT
BEGIN:STANDARD
TZOFFSETFROM:-0700
TZOFFSETTO:-0800
TZNAME:PST
DTSTART:20231105T090000
END:STANDARD
BEGIN:DAYLIGHT
TZOFFSETFROM:-0800
TZOFFSETTO:-0700
TZNAME:PDT
DTSTART:20240310T100000
END:DAYLIGHT
BEGIN:STANDARD
TZOFFSETFROM:-0700
TZOFFSETTO:-0800
TZNAME:PST
DTSTART:20241103T090000
END:STANDARD
BEGIN:DAYLIGHT
TZOFFSETFROM:-0800
TZOFFSETTO:-0700
TZNAME:PDT
DTSTART:20250309T100000
END:DAYLIGHT
BEGIN:STANDARD
TZOFFSETFROM:-0700
TZOFFSETTO:-0800
TZNAME:PST
DTSTART:20251102T090000
END:STANDARD
END:VTIMEZONE
BEGIN:VEVENT
DTSTART;TZID=America/Vancouver:20240725T190000
DTEND;TZID=America/Vancouver:20240725T210000
DTSTAMP:20260422T024626
CREATED:20240715T172124Z
LAST-MODIFIED:20240715T172124Z
UID:10000059-1721934000-1721941200@crosscommodity.org
SUMMARY:NTFVDC Annual General Meeting
DESCRIPTION:The New Tree Fruit  Varieties Development Council’s AGM will be held in person at the Summerland Arts Council Meeting Room. Click here to view the agenda and meeting package!
URL:https://crosscommodity.org/event/ntfvdc-annual-general-meeting/
LOCATION:Summerland Community Arts Council\, 9525 Wharton St\, Summerland\, BC\, Canada
CATEGORIES:Tree Fruits
ORGANIZER;CN="New Tree Fruit Varieties Development Council":MAILTO:ambrosiacouncil@gmail.com
END:VEVENT
END:VCALENDAR