BEGIN:VCALENDAR
VERSION:2.0
PRODID:-//Cross-Commodity Leadership Support Project - ECPv6.15.17//NONSGML v1.0//EN
CALSCALE:GREGORIAN
METHOD:PUBLISH
X-WR-CALNAME:Cross-Commodity Leadership Support Project
X-ORIGINAL-URL:https://crosscommodity.org
X-WR-CALDESC:Events for Cross-Commodity Leadership Support Project
REFRESH-INTERVAL;VALUE=DURATION:PT1H
X-Robots-Tag:noindex
X-PUBLISHED-TTL:PT1H
BEGIN:VTIMEZONE
TZID:America/Vancouver
BEGIN:DAYLIGHT
TZOFFSETFROM:-0800
TZOFFSETTO:-0700
TZNAME:PDT
DTSTART:20230312T100000
END:DAYLIGHT
BEGIN:STANDARD
TZOFFSETFROM:-0700
TZOFFSETTO:-0800
TZNAME:PST
DTSTART:20231105T090000
END:STANDARD
BEGIN:DAYLIGHT
TZOFFSETFROM:-0800
TZOFFSETTO:-0700
TZNAME:PDT
DTSTART:20240310T100000
END:DAYLIGHT
BEGIN:STANDARD
TZOFFSETFROM:-0700
TZOFFSETTO:-0800
TZNAME:PST
DTSTART:20241103T090000
END:STANDARD
BEGIN:DAYLIGHT
TZOFFSETFROM:-0800
TZOFFSETTO:-0700
TZNAME:PDT
DTSTART:20250309T100000
END:DAYLIGHT
BEGIN:STANDARD
TZOFFSETFROM:-0700
TZOFFSETTO:-0800
TZNAME:PST
DTSTART:20251102T090000
END:STANDARD
END:VTIMEZONE
BEGIN:VEVENT
DTSTART;TZID=America/Vancouver:20240528T143000
DTEND;TZID=America/Vancouver:20240528T160000
DTSTAMP:20260422T005835
CREATED:20240524T161147Z
LAST-MODIFIED:20240527T153220Z
UID:10000040-1716906600-1716912000@crosscommodity.org
SUMMARY:Stronger Together - BCFGA Rally For Farmers
DESCRIPTION:Join the BCFGA on Tuesday afternoon\, 2:30pm at Gyro Park in Osoyoos\, for a pro-agriculture rally. Bring your whole family to this family-friendly event. We’ll have water and frozen treats available. Bring your lawn chairs or picnic blankets\, if you like! \nThis is not a protest\, but rather a gathering of those who grow tree fruits and grapes in our valley and those who support them. We have invited public officials and community members to come and show their support\, and mingle and listen to the growers\, to understand what sort of supports are needed during these trying times. \nOur message is simple: Stronger Together. The extreme weather events and the plight of farmers goes beyond politics – we need support from consumers and non-partisan solutions and collaboration from all decision-makers. Everyone is invited to show their support\, because together\, we are stronger! \nIf you would like to volunteer your time to help out at the event\, the BCFGA staff would greatly appreciate the extra hands!
URL:https://crosscommodity.org/event/stronger-together-rally-for-farmers/
LOCATION:Gyro Beach Park\, 15 Park Place\, Osoyoos\, BC\, Canada
CATEGORIES:Apples,Cherries,Grapes,Tree Fruits
ORGANIZER;CN="BC Fruit Growers' Association":MAILTO:mcary@bcfga.com
END:VEVENT
BEGIN:VEVENT
DTSTART;TZID=America/Vancouver:20240521T000000
DTEND;TZID=America/Vancouver:20240523T235959
DTSTAMP:20260422T005835
CREATED:20240508T175841Z
LAST-MODIFIED:20240508T175841Z
UID:10000025-1716249600-1716508799@crosscommodity.org
SUMMARY:Keeping It Rural Conference
DESCRIPTION:Throughout North America\, rural communities face similar issues and obstacles. It can be both informative and motivating to learn about the successful efforts of small rural communities\, First Nations\, and rural development organizations\, both within and beyond our province of BC\, in strengthening their rural communities. \nAs a result\, the BC Rural Centre is committed to organizing and hosting a conference on rural development\, spotlighting effective and innovative initiatives. This two-day event is brimming with inspiration and ample opportunities for networking. \nThe success of rural economic development often hinges on the presence of visionary rural development organizations with the capacity to bring about enduring\, positive change. \nDuring this conference\, we will explore a wide array of topics\, including but not limited to agricultural practices\, water resource management\, rural development strategies\, climate resilience\, and the role of technology in enhancing food and water security in rural areas. Our objective is to generate insights\, disseminate best practices\, and ignite action to ensure that rural communities not only thrive but also address global challenges such as food and water scarcity\, climate change\, and environmental sustainability. \nWe extend an invitation to you to join us in this vital conversation\, where we will delve into innovative ideas\, establish meaningful connections\, and collectively work towards a future in which rural communities not only endure but flourish. By doing so\, we contribute to global efforts aimed at ensuring equitable access to food and water resources for all. The Keeping it Rural Conference 2023 pledges to serve as a platform for constructive dialogues\, collaborative solutions\, and a catalyst for positive transformation. Thank you for being an integral part of this crucial discourse. \nBuy your tickets here: Click Here  
URL:https://crosscommodity.org/event/keeping-it-rural-conference/
LOCATION:Four Points by Sheraton\, 5505 Airport Way\, Kelowna\, BC\, V1V 3C3\, Canada
CATEGORIES:Apples,Cherries,Grapes,Tree Fruits
END:VEVENT
BEGIN:VEVENT
DTSTART;TZID=America/Vancouver:20240517T100000
DTEND;TZID=America/Vancouver:20240517T110000
DTSTAMP:20260422T005835
CREATED:20240514T174054Z
LAST-MODIFIED:20240515T164644Z
UID:10000028-1715940000-1715943600@crosscommodity.org
SUMMARY:Compact All-Electric Orchard Platform Demo
DESCRIPTION:A demonstration and viewing has been organized for growers to learn more about a new all-electric orchard platform! A technician and company representative will be on-site to answer any questions growers may have. The machine model is Compact and it is from a company in Northern Italy. \nWhere: Sam DiMaria’s orchard at 120 Mail Rd in Kelowna
URL:https://crosscommodity.org/event/compact-all-electric-orchard-platform-demo/
LOCATION:Sam DiMaria’s Orchard\, 120 Mail Rd\, Kelowna\, BC\, Canada
CATEGORIES:Apples,Cherries,Tree Fruits
ORGANIZER;CN="BC Fruit Growers' Association":MAILTO:mcary@bcfga.com
END:VEVENT
BEGIN:VEVENT
DTSTART;TZID=America/Vancouver:20240516T120000
DTEND;TZID=America/Vancouver:20240516T130000
DTSTAMP:20260422T005835
CREATED:20240426T212122Z
LAST-MODIFIED:20240426T212122Z
UID:10000024-1715860800-1715864400@crosscommodity.org
SUMMARY:BCWGC - R&D Meeting: May 16\, 2024
DESCRIPTION:Dr. Jose Urbez-Torres\, Plant Pathologist\, AAFC – Vine renewal\, a cultural practice for management of grapevine trunk diseases \nDr. Urbez-Torres will present data outlining recommendations on best methods to fight and eliminate grapevine truck disease during a replant and renewal period for vineyards. Strategies include selecting the best shoots and how to cut and remove damaged trunks in a way that limits the possibility of spreading disease across the vineyard. The presentation will be supported by a survey that is being launched in the province to help researchers and industry associations understand the extent of disease and virus in BC that will inform the upcoming Enhanced Replant Program (ERP) and the work being conducted by the Wine Industry Task Force. \n  \nRegister Here: Zoom Link
URL:https://crosscommodity.org/event/bcwgc-rd-meeting-may-16-2024/
LOCATION:Zoom
CATEGORIES:Grapes
ATTACH;FMTTYPE=image/png:https://crosscommodity.org/wp-content/uploads/2024/04/BCGWC-Colour-horizontal-2.png
ORGANIZER;CN="BC Wine Grape Council":MAILTO:info@bcwgc.com
END:VEVENT
BEGIN:VEVENT
DTSTART;TZID=America/Vancouver:20240502T121500
DTEND;TZID=America/Vancouver:20240502T130000
DTSTAMP:20260422T005835
CREATED:20240410T205602Z
LAST-MODIFIED:20240418T185444Z
UID:10000015-1714652100-1714654800@crosscommodity.org
SUMMARY:Lunch & Learn With FCC
DESCRIPTION:Join us for a virtual presentation from Farm Credit Canada! Together we will learn about: \n– Who is FCC and what do they do \n– Why cashflow planning is important \n– What support programs are available to producers \n– What to keep in mind with your banker during down cycles \n  \nREGISTER HERE: Zoom Link
URL:https://crosscommodity.org/event/save-the-date-lunch-learn-with-fcc/
LOCATION:Zoom
CATEGORIES:Apples,Cherries,Grapes,Tree Fruits
ORGANIZER;CN="Cross-Commodity Leadership Support Project":MAILTO:sausten@oksir.org
END:VEVENT
BEGIN:VEVENT
DTSTART;TZID=America/Vancouver:20240427T090000
DTEND;TZID=America/Vancouver:20240427T130000
DTSTAMP:20260422T005835
CREATED:20240410T205405Z
LAST-MODIFIED:20240417T223025Z
UID:10000014-1714208400-1714222800@crosscommodity.org
SUMMARY:BC Cherry Field Days - Managing Cherry Crop Loss
DESCRIPTION:Please join us for a cherry field day to discuss horticultural management in the face of crop loss. \n\nDr. Greg Lang (Michigan State University) will provide expert advice on managing cherry orchards with crop loss due to cold temperatures.\nDr. Denise Nielsen will discuss the effects of climate change on the cherry crop (Summerland only).\nThe BC Ministry of Agriculture and food will outline support programming for the season ahead.\nLunch will be provided!
URL:https://crosscommodity.org/event/save-the-date-cherry-winter-damage-event-2/
CATEGORIES:Cherries
END:VEVENT
BEGIN:VEVENT
DTSTART;TZID=America/Vancouver:20240426T090000
DTEND;TZID=America/Vancouver:20240426T130000
DTSTAMP:20260422T005835
CREATED:20240410T205331Z
LAST-MODIFIED:20240417T222849Z
UID:10000013-1714122000-1714136400@crosscommodity.org
SUMMARY:BC Cherry Field Days - Managing Cherry Crop Loss
DESCRIPTION:Please join us for a cherry field day to discuss horticultural management in the face of crop loss. \n\nDr. Greg Lang (Michigan State University) will provide expert advice on managing cherry orchards with crop loss due to cold temperatures.\nDr. Denise Nielsen will discuss the effects of climate change on the cherry crop (Summerland only).\nThe BC Ministry of Agriculture and food will outline support programming for the season ahead.\nLunch will be provided!
URL:https://crosscommodity.org/event/save-the-date-cherry-winter-damage-event/
LOCATION:Dickinson Family Farm\, 17208 Bentley Rd\, Summerland\, BC\, Canada
CATEGORIES:Cherries
END:VEVENT
BEGIN:VEVENT
DTSTART;TZID=America/Vancouver:20240425T173000
DTEND;TZID=America/Vancouver:20240425T193000
DTSTAMP:20260422T005835
CREATED:20240417T223438Z
LAST-MODIFIED:20240417T223438Z
UID:10000020-1714066200-1714073400@crosscommodity.org
SUMMARY:Creston TFPG Meeting
DESCRIPTION:Join us for the Tree Fruit Profuction Guide Meeting in Creston. The event will be held in the Erikson Room at the Creston Community Complex.
URL:https://crosscommodity.org/event/creston-tfpg-meeting/
LOCATION:Creston Community Complex\, 312 19 Ave N\, Creston\, BC\, Canada
CATEGORIES:Apples,Cherries,Tree Fruits
ORGANIZER;CN="BC Fruit Growers' Association":MAILTO:mcary@bcfga.com
END:VEVENT
BEGIN:VEVENT
DTSTART;TZID=America/Vancouver:20240425T121500
DTEND;TZID=America/Vancouver:20240425T130000
DTSTAMP:20260422T005835
CREATED:20240410T205648Z
LAST-MODIFIED:20240418T185615Z
UID:10000016-1714047300-1714050000@crosscommodity.org
SUMMARY:Lunch & Learn With ACC
DESCRIPTION:Join us for a presentation from the Agricultural Credit Corporation! Together we will learn about: \n– Who is ACC and what do they do \n– What is the Advance Payments Program \n– Why cashflow planning is important \n– What support programs are available to producers \n– What to keep in mind with your banker during down cycles \nREGISTER HERE: Zoom Link
URL:https://crosscommodity.org/event/save-the-date-lunch-learn-with-acc/
LOCATION:Zoom
CATEGORIES:Apples,Cherries,Grapes,Tree Fruits
ORGANIZER;CN="Cross-Commodity Leadership Support Project":MAILTO:sausten@oksir.org
END:VEVENT
BEGIN:VEVENT
DTSTART;TZID=America/Vancouver:20240423T000000
DTEND;TZID=America/Vancouver:20240425T235959
DTSTAMP:20260422T005835
CREATED:20240410T204252Z
LAST-MODIFIED:20240410T204933Z
UID:10000012-1713830400-1714089599@crosscommodity.org
SUMMARY:Canadian Produce Marketing Association Convention & Tradeshow
DESCRIPTION:This event is held on April 23 to 25\, 2024 at the Vancouver Convention Centre. \n  \nFor more information\, visit the following link: Convention Program
URL:https://crosscommodity.org/event/canadian-produce-marketing-association-convention-tradeshow/
LOCATION:Vancouver Convention Centre\, 1055 Canada Pl\, Vancouver\, BC\, Canada
CATEGORIES:Apples,Cherries,Tree Fruits
END:VEVENT
BEGIN:VEVENT
DTSTART;TZID=America/Vancouver:20240423T000000
DTEND;TZID=America/Vancouver:20240423T235959
DTSTAMP:20260422T005835
CREATED:20240424T193536Z
LAST-MODIFIED:20240424T193536Z
UID:10000023-1713830400-1713916799@crosscommodity.org
SUMMARY:Ontario Craft Wine Conference and Tradeshow
DESCRIPTION:The sixth annual Ontario Craft Wine Conference & Trade Show will take place on Tuesday\, April 23\, 2024 in Niagara Falls\, Ontario. \nOntario’s only industry conference focusing on the business of wine brings together Ontario’s VQA wine and grape industry leaders and professionals for a full day of education\, networking\, and business building. \nFeaturing international keynote speakers\, education sessions and Canada’s only craft wine industry trade show\, this event is attended by 300+ attendees including craft winery owners\, operators\, wine experts\, professionals\, industry suppliers\, investors\, government and industry champions. \nDon’t miss out! \nRegister Here: Link
URL:https://crosscommodity.org/event/ontario-craft-wine-conference-and-tradeshow/
LOCATION:Niagara Falls Convention Centre\, 6815 Stanley Ave\, Niagara Falls\, Ontario\, Canada
CATEGORIES:Grapes
ATTACH;FMTTYPE=image/png:https://crosscommodity.org/wp-content/uploads/2024/04/OCWC_WHOVA_APP_BANNER_1_.png
END:VEVENT
BEGIN:VEVENT
DTSTART;TZID=America/Vancouver:20240420T110000
DTEND;TZID=America/Vancouver:20240420T150000
DTSTAMP:20260422T005835
CREATED:20240410T203950Z
LAST-MODIFIED:20240416T152555Z
UID:10000011-1713610800-1713625200@crosscommodity.org
SUMMARY:SWGBC Consumer Tasting Event
DESCRIPTION:Live music\, food trucks\, and more! \n  \nRegister Here: Eventbrite Link
URL:https://crosscommodity.org/event/swgbc-consumer-tasting-event/
LOCATION:Naramata Wine Vault\, 3755 2 St\, Naramata\, BC\, Canada
CATEGORIES:Grapes
END:VEVENT
BEGIN:VEVENT
DTSTART;TZID=America/Vancouver:20240419T093000
DTEND;TZID=America/Vancouver:20240419T120000
DTSTAMP:20260422T005835
CREATED:20240416T202812Z
LAST-MODIFIED:20240416T202812Z
UID:10000019-1713519000-1713528000@crosscommodity.org
SUMMARY:BCDAS Field Day - Osoyoos
DESCRIPTION:Join the Okanagan-Kootenay Sterile Insect Release Program and BC Ministry of Agriculture & Food for a field day to learn about the BC Decision Aid System. The session will be held at Orchard Hill Cidery in Osoyoos.
URL:https://crosscommodity.org/event/bcdas-field-day-osoyoos/
LOCATION:Orchard Hill Cidery\, 3480 Fruitvale Way\, Osoyoos\, BC\, Canada
CATEGORIES:Apples,Cherries,Tree Fruits
ORGANIZER;CN="Okanagan-Kootenay Sterile Insect Release Program":MAILTO:sirinfo@oksir.org
END:VEVENT
BEGIN:VEVENT
DTSTART;TZID=America/Vancouver:20240418T120000
DTEND;TZID=America/Vancouver:20240418T130000
DTSTAMP:20260422T005835
CREATED:20240410T203646Z
LAST-MODIFIED:20240410T203714Z
UID:10000010-1713441600-1713445200@crosscommodity.org
SUMMARY:April 2024 BCWGC R&D Committee Meeting
DESCRIPTION:Join representatives from the Ministry of Agriculture and Ministry of Environment for an overview of the Code of Practice for Agricultural Environmental Management\, nutrient application (including during replant and renewal periods\, on cold damaged grape vines)\, records\, and the 4Rs. A case study will be shared along with details on the Environmental Farm Plan and Sustainable Winegrowing BC. \n  \nRegister in advance: Link
URL:https://crosscommodity.org/event/april-2024-bcwgc-rd-committee-meeting/
LOCATION:Zoom
CATEGORIES:Grapes
ORGANIZER;CN="BC Wine Grape Council":MAILTO:info@bcwgc.com
END:VEVENT
BEGIN:VEVENT
DTSTART;TZID=America/Vancouver:20240418T093000
DTEND;TZID=America/Vancouver:20240418T120000
DTSTAMP:20260422T005835
CREATED:20240416T202602Z
LAST-MODIFIED:20240416T202849Z
UID:10000018-1713432600-1713441600@crosscommodity.org
SUMMARY:BCDAS Field Day - East Kelowna
DESCRIPTION:Join the Okanagan-Kootenay Sterile Insect Release Program and BC Ministry of Agriculture & Food for a field day to learn about the BC Decision Aid System. The session will be held in East Kelowna at 3250 East Kelowna Rd.
URL:https://crosscommodity.org/event/bcdas-field-day-2/
LOCATION:East Kelowna\, 3250 East Kelowna Rd\, Kelowna\, BC\, Canada
CATEGORIES:Apples,Cherries,Tree Fruits
ORGANIZER;CN="Okanagan-Kootenay Sterile Insect Release Program":MAILTO:sirinfo@oksir.org
END:VEVENT
BEGIN:VEVENT
DTSTART;TZID=America/Vancouver:20240417T093000
DTEND;TZID=America/Vancouver:20240417T120000
DTSTAMP:20260422T005835
CREATED:20240416T202348Z
LAST-MODIFIED:20240416T202910Z
UID:10000017-1713346200-1713355200@crosscommodity.org
SUMMARY:BCDAS Field Day - Lake Country
DESCRIPTION:Join the Okanagan-Kootenay Sterile Insect Release Program and BC Ministry of Agriculture & Food for a field day to learn about the BC Decision Aid System. The session will be held at Gurjit Pabla’s farm at 7047 Shanks Rd in Lake Country.
URL:https://crosscommodity.org/event/bcdas-field-day/
LOCATION:Gurjit Pabla’s Farm\, 7047 Shanks Rd\, Lake Country\, NC\, Canada
CATEGORIES:Apples,Cherries,Tree Fruits
ORGANIZER;CN="Okanagan-Kootenay Sterile Insect Release Program":MAILTO:sirinfo@oksir.org
END:VEVENT
BEGIN:VEVENT
DTSTART;TZID=America/Vancouver:20240412T110000
DTEND;TZID=America/Vancouver:20240412T120000
DTSTAMP:20260422T005835
CREATED:20240410T203422Z
LAST-MODIFIED:20240410T203422Z
UID:10000009-1712919600-1712923200@crosscommodity.org
SUMMARY:2024 Okanagan Water Supply Webinar
DESCRIPTION:Join the Okanagan Basin Water Board for this year’s water webinar exploring water supply in the Okanagan. They will touch on reservoir levels\, snowpack\, groundwater\, and weather forecasts. \n  \nJoin The Webinar Here: Zoom Link
URL:https://crosscommodity.org/event/2024-okanagan-water-supply-webinar/
LOCATION:Zoom
CATEGORIES:Apples,Cherries,Grapes,Tree Fruits
ORGANIZER;CN="Okanagan Basin Water Board":MAILTO:nelson.jatel@obwb.ca
END:VEVENT
BEGIN:VEVENT
DTSTART;TZID=America/Vancouver:20240411T180000
DTEND;TZID=America/Vancouver:20240411T200000
DTSTAMP:20260422T005835
CREATED:20240410T203002Z
LAST-MODIFIED:20240410T203002Z
UID:10000008-1712858400-1712865600@crosscommodity.org
SUMMARY:Decoding Drought Management Engagement Session - Salmon Arm
DESCRIPTION:The Ministry of Agriculture and Food and The Ministry of Water\, Land and Resource Stewardship are pleased to invite you to join us for a community learning opportunity at this engagement session. The purpose of the Decoding Drought Management Engagement Sessions being held is to improve awareness of the supports available to area producers to prepare for and reduce the impacts of drought. The engagement sessions will help build understanding within the agriculture sector about B.C.’s legislative framework for water management\, including regulatory tools\, and decision-making under the Water Sustainability Act (WSA). \nRegister Here: Link
URL:https://crosscommodity.org/event/decoding-drought-management-engagement-session-salmon-arm-2/
LOCATION:White Valley Community Centre\, 2250 Shields Ave\, Lumby\, BC\, Canada
CATEGORIES:Apples,Cherries,Grapes,Tree Fruits
END:VEVENT
BEGIN:VEVENT
DTSTART;TZID=America/Vancouver:20240411T140000
DTEND;TZID=America/Vancouver:20240411T160000
DTSTAMP:20260422T005835
CREATED:20240410T202721Z
LAST-MODIFIED:20240410T202721Z
UID:10000007-1712844000-1712851200@crosscommodity.org
SUMMARY:Lake Country TFPG Meeting
DESCRIPTION:Join us for the Tree Fruit Profuction Guide Meeting in Lake Country.
URL:https://crosscommodity.org/event/lake-country-tfpg-meeting/
LOCATION:Winfield Memorial Hall\, 10130 Bottom Wood Lake Rd\, Lake Country\, BC\, Canada
CATEGORIES:Apples,Cherries,Tree Fruits
ORGANIZER;CN="BC Fruit Growers' Association":MAILTO:mcary@bcfga.com
END:VEVENT
BEGIN:VEVENT
DTSTART;TZID=America/Vancouver:20240411T100000
DTEND;TZID=America/Vancouver:20240411T120000
DTSTAMP:20260422T005835
CREATED:20240410T202559Z
LAST-MODIFIED:20240410T202559Z
UID:10000006-1712829600-1712836800@crosscommodity.org
SUMMARY:Summerland TFPG Meeting
DESCRIPTION:Join us for the Tree Fruit Profuction Guide Meeting in Summerland.
URL:https://crosscommodity.org/event/summerland-tfpg-meeting/
LOCATION:Summerland Community Arts Council\, 9525 Wharton St\, Summerland\, BC\, Canada
CATEGORIES:Apples,Cherries,Tree Fruits
ORGANIZER;CN="BC Fruit Growers' Association":MAILTO:mcary@bcfga.com
END:VEVENT
BEGIN:VEVENT
DTSTART;TZID=America/Vancouver:20240410T183000
DTEND;TZID=America/Vancouver:20240410T203000
DTSTAMP:20260422T005835
CREATED:20240410T202315Z
LAST-MODIFIED:20240410T202417Z
UID:10000005-1712773800-1712781000@crosscommodity.org
SUMMARY:Decoding Drought Management Engagement Session - Salmon Arm
DESCRIPTION:The Ministry of Agriculture and Food and The Ministry of Water\, Land and Resource Stewardship are pleased to invite you to join us for a community learning opportunity at this engagement session. The purpose of the Decoding Drought Management Engagement Sessions being held is to improve awareness of the supports available to area producers to prepare for and reduce the impacts of drought. The engagement sessions will help build understanding within the agriculture sector about B.C.’s legislative framework for water management\, including regulatory tools\, and decision-making under the Water Sustainability Act (WSA). \nRegister Here: Link
URL:https://crosscommodity.org/event/decoding-drought-management-engagement-session-salmon-arm/
LOCATION:Royal Canadian Legion #62\, 150 Lakeshore Dr NW\, Salmon Arm\, BC\, Canada
CATEGORIES:Apples,Cherries,Grapes,Tree Fruits
END:VEVENT
BEGIN:VEVENT
DTSTART;TZID=America/Vancouver:20240409T130000
DTEND;TZID=America/Vancouver:20240409T150000
DTSTAMP:20260422T005835
CREATED:20240410T201555Z
LAST-MODIFIED:20240410T201555Z
UID:10000003-1712667600-1712674800@crosscommodity.org
SUMMARY:Demystifying Business Risk Management Tools
DESCRIPTION:Join the BCGA for a deep dive into practical tools and strategies to navigate and mitigate business risks! \nRegister Here: Eventbrite Link
URL:https://crosscommodity.org/event/demystifying-business-risk-management-tools/
LOCATION:Oliver Parks & Recreation\, 6359 Park Dr\, Oliver\, BC\, Canada
CATEGORIES:Grapes
END:VEVENT
BEGIN:VEVENT
DTSTART;TZID=America/Vancouver:20240409T100000
DTEND;TZID=America/Vancouver:20240409T120000
DTSTAMP:20260422T005835
CREATED:20240410T201859Z
LAST-MODIFIED:20240410T201859Z
UID:10000004-1712656800-1712664000@crosscommodity.org
SUMMARY:Keremeos TFPG Meeting
DESCRIPTION:Join us for the Tree Fruit Profuction Guide Meeting in Keremeos.
URL:https://crosscommodity.org/event/keremeos-tfpg-meeting/
LOCATION:The Grist Mill\, 2691 Upper Bench Rd\, Keremeos\, BC\, Canada
CATEGORIES:Apples,Cherries,Tree Fruits
ORGANIZER;CN="BC Fruit Growers' Association":MAILTO:mcary@bcfga.com
END:VEVENT
BEGIN:VEVENT
DTSTART;TZID=America/Vancouver:20240409T100000
DTEND;TZID=America/Vancouver:20240409T120000
DTSTAMP:20260422T005835
CREATED:20240410T201311Z
LAST-MODIFIED:20240410T201620Z
UID:10000002-1712656800-1712664000@crosscommodity.org
SUMMARY:Oliver TFPG Meeting
DESCRIPTION:Join us for the Tree Fruit Profuction Guide Meeting in Oliver.
URL:https://crosscommodity.org/event/oliver-tfpg-meeting/
LOCATION:Oliver Parks & Recreation\, 6359 Park Dr\, Oliver\, BC\, Canada
CATEGORIES:Apples,Cherries,Tree Fruits
ORGANIZER;CN="BC Fruit Growers' Association":MAILTO:mcary@bcfga.com
END:VEVENT
BEGIN:VEVENT
DTSTART;TZID=America/Vancouver:20240403T120000
DTEND;TZID=America/Vancouver:20240403T130000
DTSTAMP:20260422T005835
CREATED:20240410T200907Z
LAST-MODIFIED:20240410T200907Z
UID:10000001-1712145600-1712149200@crosscommodity.org
SUMMARY:Making Soils Data Actionable Webinar Series
DESCRIPTION:More soil tests and data are available to farmers than ever. While this can be empowering\, it can also be confusing. New information on soil chemistry\, biology\, and physics can sometimes be difficult to translate into action. In this webinar series\, we highlight projects across Washington that are using soil data to inform real\, on-farm management decisions. \nIf you’ve been hit with soil data overload\, this 4 part series is for you. Farmers\, agricultural advisors\, extension staff\, and decision makers are welcome. Come hear about how to take action on soil data\, learn about available resources\, and meet other Washington soil enthusiasts. \nSoil Health Report Generator (Webinar #4) – Jadey Ryan\, Data Scientist\, Washington State Department of Agriculture \nJoin our webinar for a demo of the {soils} R package\, designed for comprehensive soil health data visualization and reporting. See how we use R and Quarto to create customized\, interactive reports to empower each participant in the State of the Soils Assessment to explore and understand their soil data. {soils} will be released to the public in March! \nRegister Here: Zoom Registration
URL:https://crosscommodity.org/event/making-soils-data-actionable-webinar-series/
LOCATION:Zoom
END:VEVENT
END:VCALENDAR